{
 "version": 1.0,
 "tileBundlesPath": "./tile",
 "storageInfo": {
  "packetSize": 128,
  "storageFormat": "esriMapCacheStorageModeCompactV2"
 },
 "tileImageInfo": {
  "format": "JPEG",
  "compressionQuality": 75,
  "bandCount": 1,
  "lercError": 0
 },
 "tileInfo": {
  "spatialReference": {
   "wkid": 102110,
   "latestWkid": 2154
  },
  "origin": {
   "x": -35597500,
   "y": 48953100
  },
  "rows": 256,
  "cols": 256,
  "dpi": 96,
  "lods": [
   {
    "level": 0,
    "resolution": 135.46693760054188,
    "scale": 512000
   },
   {
    "level": 1,
    "resolution": 67.73346880027094,
    "scale": 256000
   },
   {
    "level": 2,
    "resolution": 33.86673440013547,
    "scale": 128000
   },
   {
    "level": 3,
    "resolution": 16.933367200067735,
    "scale": 64000
   },
   {
    "level": 4,
    "resolution": 8.466683600033868,
    "scale": 32000
   },
   {
    "level": 5,
    "resolution": 4.233341800016934,
    "scale": 16000
   },
   {
    "level": 6,
    "resolution": 2.116670900008467,
    "scale": 8000
   },
   {
    "level": 7,
    "resolution": 1.0583354500042335,
    "scale": 4000
   },
   {
    "level": 8,
    "resolution": 0.5291677250021167,
    "scale": 2000
   },
   {
    "level": 9,
    "resolution": 0.26458386250105836,
    "scale": 1000
   },
   {
    "level": 10,
    "resolution": 0.13229193125052918,
    "scale": 500
   }
  ],
  "format": "JPEG",
  "compressionQuality": 75,
  "bandCount": 1,
  "lercError": 0,
  "storageFormat": "esriMapCacheStorageModeCompactV2",
  "packetSize": 128
 },
 "name": "PhotoAerienne_1987",
 "serviceDescription": "",
 "spatialReference": {
  "wkid": 102110,
  "latestWkid": 2154,
  "xyTolerance": 0.001,
  "zTolerance": 0.001,
  "mTolerance": 0.001,
  "falseX": -35597500,
  "falseY": -23641900,
  "xyUnits": 1.2407465052332792E8,
  "falseZ": -100000,
  "zUnits": 10000,
  "falseM": -100000,
  "mUnits": 10000
 },
 "units": "esriMeters",
 "minLOD": 0,
 "maxLOD": 10,
 "resampling": true,
 "layers": [
  {
   "id": 0,
   "name": "Emprise",
   "parentLayerId": -1,
   "defaultVisibility": true,
   "subLayerIds": null,
   "minScale": 0,
   "maxScale": 64001,
   "type": "Feature Layer",
   "geometryType": "esriGeometryPolygon",
   "supportsDynamicLegends": true,
   "legend": [
    {
     "label": "",
     "imageData": "iVBORw0KGgoAAAANSUhEUgAAABQAAAAUCAYAAACNiR0NAAAACXBIWXMAAA7EAAAOxAGVKw4bAAAAaElEQVQ4ja3MiQnAIBAEwBWuKEuxxJRiVwmIAUN87tkpYAQk+cJdC5KwMnTCzMLhmNWCFApnmTtcZa5wl5nDU2YKNZk61Gaq0JIdQ2u2DT3ZMvRm0zCS/cJo9gkZGd6QlbWQmbWQkYwe0dM4MKbuIYgAAAAASUVORK5CYII=",
     "contentType": "image/png",
     "groupId": "0",
     "height": 20,
     "width": 20,
     "layerId": 0,
     "layerName": "Emprise"
    }
   ],
   "layerId": 0,
   "layerName": "Emprise",
   "serviceItemId": "6697b92d21aa4daca3921bb14d8be483"
  },
  {
   "id": 1,
   "name": "Photo aƩrienne de 1987",
   "parentLayerId": -1,
   "defaultVisibility": true,
   "subLayerIds": [
    2,
    3,
    4
   ],
   "minScale": 64000,
   "maxScale": 0,
   "type": "Mosaic Layer",
   "supportsDynamicLegends": false,
   "layerId": 1,
   "layerName": "Photo aƩrienne de 1987",
   "serviceItemId": "6697b92d21aa4daca3921bb14d8be483"
  },
  {
   "id": 2,
   "name": "Limite",
   "parentLayerId": 1,
   "defaultVisibility": false,
   "subLayerIds": null,
   "minScale": 0,
   "maxScale": 0,
   "type": "Feature Layer",
   "geometryType": "esriGeometryPolygon",
   "supportsDynamicLegends": true,
   "legend": [
    {
     "label": "",
     "imageData": "iVBORw0KGgoAAAANSUhEUgAAABQAAAAUCAYAAACNiR0NAAAACXBIWXMAAA7EAAAOxAGVKw4bAAAAO0lEQVQ4je3VIQ4AMAxCUZZw/yuzrK4a3HhpKr+oKQUIQXzrzPgEaIJJbNBGP7E16GOgsTT4zQ0VfAMXpesGTbdHvcEAAAAASUVORK5CYII=",
     "contentType": "image/png",
     "groupId": "0",
     "height": 20,
     "width": 20,
     "layerId": 2,
     "layerName": "Limite"
    }
   ],
   "layerId": 2,
   "layerName": "Limite",
   "serviceItemId": "6697b92d21aa4daca3921bb14d8be483"
  },
  {
   "id": 3,
   "name": "Emprise",
   "parentLayerId": 1,
   "defaultVisibility": false,
   "subLayerIds": null,
   "minScale": 0,
   "maxScale": 0,
   "type": "Feature Layer",
   "geometryType": "esriGeometryPolygon",
   "supportsDynamicLegends": true,
   "legend": [
    {
     "label": "",
     "imageData": "iVBORw0KGgoAAAANSUhEUgAAABQAAAAUCAYAAACNiR0NAAAACXBIWXMAAA7EAAAOxAGVKw4bAAAAO0lEQVQ4je3VIQ4AMAxCUZpw/yuzZFPV4MYXlU9gSghCMN47mIgm6IHBWNCOPrEr6MeAsSr4z4bKvYEDou0GTfPqtc0AAAAASUVORK5CYII=",
     "contentType": "image/png",
     "groupId": "0",
     "height": 20,
     "width": 20,
     "layerId": 3,
     "layerName": "Emprise"
    }
   ],
   "layerId": 3,
   "layerName": "Emprise",
   "serviceItemId": "6697b92d21aa4daca3921bb14d8be483"
  },
  {
   "id": 4,
   "name": "Image",
   "parentLayerId": 1,
   "defaultVisibility": true,
   "subLayerIds": null,
   "minScale": 0,
   "maxScale": 0,
   "type": "Raster Layer",
   "supportsDynamicLegends": true,
   "legend": [
    {
     "label": "255 - 8",
     "imageData": "iVBORw0KGgoAAAANSUhEUgAAABQAAAA8CAYAAABmdppWAAAACXBIWXMAAA7EAAAOxAGVKw4bAAAAXElEQVRYhe3UwQkAMQwDwTy2/4YlcleE/AhYW4CJJ2Duvd8ZDNuT8w6Sztsv9PMDtc9Q+1Z2DdOoYRw1jKPnK46FhppeWfsM/fynuCunUcM4ahhHDePoxY5jn+EPhDiy86pHgCsAAAAASUVORK5CYII=",
     "contentType": "image/png",
     "groupId": "0",
     "height": 60,
     "width": 20,
     "layerId": 4,
     "layerName": "Image"
    }
   ],
   "layerId": 4,
   "layerName": "Image",
   "serviceItemId": "6697b92d21aa4daca3921bb14d8be483"
  }
 ],
 "initialExtent": {
  "xmin": 134000.00002896,
  "ymin": 6829100.0000247,
  "xmax": 158500.000028983,
  "ymax": 6846600.00002471,
  "spatialReference": {
   "wkid": 102110,
   "latestWkid": 2154
  }
 },
 "fullExtent": {
  "xmin": 134000.00002896,
  "ymin": 6829100.0000247,
  "xmax": 158500.000028983,
  "ymax": 6846600.00002471,
  "spatialReference": {
   "wkid": 102110,
   "latestWkid": 2154
  }
 },
 "minScale": 147914382,
 "maxScale": 0,
 "exportTilesAllowed": false,
 "maxExportTilesCount": 0,
 "currentVersion": 11.5,
 "mapName": "PhotoAerienne_1987",
 "singleFusedMapCache": true,
 "type": "MapServer",
 "supportedExtensions": "",
 "capabilities": "TilesOnly,Tilemap",
 "serviceItemId": "6697b92d21aa4daca3921bb14d8be483"
}
